Workbook

Sheet 受験資格確認表（経験業務内容）
A1: ■受験資格確認表（※全受験者必須） | B1: （受験者氏名） | D1: （受験者メールアドレス）
A2: これまでに従事された、もしくは、現在従事されている業務内容 | B2: チェック欄 | C2: コア配点(自動採点) | D2: オプション配点(自動採点)
A3: ①個人情報の取り扱い（個人情報に配慮したデータ収集方法の検討） 〈2点〉 | C3: =IF(B3="従事している（経験がある）", 2, 0) -> 0
A4: ②データマネジメント計画の策定・維持管理〈3点〉 | C4: =IF(B4="従事している（経験がある）", 3, 0) -> 0
A5: ③臨床データマネジメントのプロジェクトマネジメント 〈1点〉 | D5: =IF(B5="従事している（経験がある）", 1, 0) -> 0
A6: ④ベンダーの選定や管理 〈1点〉 | D6: =IF(B6="従事している（経験がある）", 1, 0) -> 0
A7: ⑤データ標準対応（CDISC、OMOP等、データ標準規格の実装経験） 〈1点〉 | D7: =IF(B7="従事している（経験がある）", 1, 0) -> 0
A8: ⑥トレーニング（EDCトレーニングの実施、教育資材の開発などを含む） 〈2点〉 | C8: =IF(B8="従事している（経験がある）", 2, 0) -> 0
A9: ⑦EDCの選定 〈1点〉 | D9: =IF(B9="従事している（経験がある）", 1, 0) -> 0
A10: ⑧EDCの実装とセットアップ 〈3点〉 | C10: =IF(B10="従事している（経験がある）", 3, 0) -> 0
A11: ⑨EDCの利用と維持および終了対応 〈3点〉 | C11: =IF(B11="従事している（経験がある）", 3, 0) -> 0
A12: ⑩データ収集ツールのデザインと開発 〈2点〉 | C12: =IF(B12="従事している（経験がある）", 2, 0) -> 0
A13: ⑪エディットチェックのデザイン 〈2点〉 | C13: =IF(B13="従事している（経験がある）", 2, 0) -> 0
A14: ⑫データベースのバリデーション、プログラミング業務 〈2点〉 | C14: =IF(B14="従事している（経験がある）", 2, 0) -> 0
A15: ⑬CRF記入の手引きの作成・維持管理 〈2点〉 | C15: =IF(B15="従事している（経験がある）", 2, 0) -> 0
A16: ⑭データ入力プロセスのデザイン 〈1点〉 | D16: =IF(B16="従事している（経験がある）", 1, 0) -> 0
A17: ⑮患者報告アウトカム対応 〈1点〉 | D17: =IF(B17="従事している（経験がある）", 1, 0) -> 0
A18: ⑯臨床検査データの取り扱い 〈1点〉 | D18: =IF(B18="従事している（経験がある）", 1, 0) -> 0
A19: ⑰外部データ転送業務 〈1点〉 | D19: =IF(B19="従事している（経験がある）", 1, 0) -> 0
A20: ⑱医学・薬剤辞書の管理・利用・保守 〈1点〉 | D20: =IF(B20="従事している（経験がある）", 1, 0) -> 0
A21: ⑲データベースクローズ業務 〈3点〉 | C21: =IF(B21="従事している（経験がある）", 3, 0) -> 0
A22: ⑳安全性データの管理と報告業務 〈2点〉 | C22: =IF(B22="従事している（経験がある）", 2, 0) -> 0
A23: ㉑重篤な有害事象のデータ整合性の確認業務 〈1点〉 | D23: =IF(B23="従事している（経験がある）", 1, 0) -> 0
A24: ㉒品質保証 〈1点〉 | D24: =IF(B24="従事している（経験がある）", 1, 0) -> 0
A25: ㉓データの品質の測定 〈2点〉 | C25: =IF(B25="従事している（経験がある）", 2, 0) -> 0
A26: ㉔臨床データマネジメントメトリクスの設定 〈1点〉 | D26: =IF(B26="従事している（経験がある）", 1, 0) -> 0 | E26: 合計
B27: =IF(COUNTBLANK(B3:B26)>0,"チェック未完了","チェック済") -> チェック未完了 | C27: =SUM(C3:C26) -> 0 | D27: =SUM(D3:D26) -> 0 | E27: =SUM(C27:D27) -> 0
C28: =IF(C27>=21, "OK", "") | E28: =IF(E27>=28, "OK", "")
A29: 受験資格確認
A30: ※コア点数21点以上（/合計28点）、オプション項目〈1点〉も含めて28点以上で受験可能です。
A31: ※上記で点数に満たない場合は、追加項目（CDMに関する著作・論文、学会発表、研修受講歴）の申請により追加点数の取得が可能です。
A32: 業務内容で28点以上ある方は、このあとの追加項目シートの記載は不要です。
A33: 追加項目：1項目1点となります。

Sheet ※追加1_CDMに関する著作_論文
A1: ■CDMに関する著作・論文歴（受験資格確認表でスコアが28点以上の人は不要）
A2: ＃ | B2: 著者名 | C2: 著作・論文標題 | D2: 雑誌名 | E2: 発行年 | F2: 掲載論文のDOI | G2: 査読の有無
A3: 例 | B3: 臨床花子、研究太朗、XXXXX | C3: 効率的CDM実施に関するXXXXの手法の検討 | D3: 薬理と治療 | E3: 2025年 | F3: https://doi.org/XXXX-XXXXX（XX）XXXXX-X | G3: はい
A4: 1
A5: 2
A6: 3
A7: 4
A8: 5
A9: 6
A10: 7
A11: 8
A12: 9
A13: 10

Sheet ※追加2_CDMに関する学会発表
A1: ■CDMに関する学会発表（受験資格確認表でスコアが28点以上の人は不要）
A2: ＃ | B2: 発表者名 | C2: 発表標題 | D2: 学会名等 | E2: 発表年
A3: 例 | B3: 臨床花子、研究太朗、XXXXX | C3: 効率的CDM実施に関するXXXXの手法の検討 | D3: 第17回日本臨床試験学会 | E3: 2025年
A4: 1
A5: 2
A6: 3
A7: 4
A8: 5
A9: 6
A10: 7
A11: 8
A12: 9
A13: 10

Sheet ※追加3_CDMに関する研修
A1: ■CDMに関する研修受講歴（受験資格確認表でスコアが28点以上の人は不要）
A2: ＃ | B2: 研修・セミナーのタイトル | C2: 主催者 | D2: 開催年月日
A3: 例 | B3: XXXXのCDM技法に関するセミナー | C3: 日本臨床試験学会 | D3: 2025年X月X日
A4: 1
A5: 2
A6: 3
A7: 4
A8: 5
A9: 6
A10: 7
A11: 8
A12: 9
A13: 10

Sheet ※※集計用（編集不可）※※
A1: 氏名 | B1: メールアドレス | C1: 業務1 | D1: 業務2 | E1: 業務3 | F1: 業務4 | G1: 業務5 | H1: 業務6 | I1: 業務7 | J1: 業務8 | K1: 業務9 | L1: 業務10 | M1: 業務11 | N1: 業務12 | O1: 業務13 | P1: 業務14 | Q1: 業務15 | R1: 業務16 | S1: 業務17 | T1: 業務18 | U1: 業務19 | V1: 業務20 | W1: 業務21 | X1: 業務22 | Y1: 業務23 | Z1: 業務24 | AA1: コア | AB1: オプション | AC1: 合計点 | AD1: 追加申請 | AE1: 追加合計
A2: ='受験資格確認表（経験業務内容）'!C1 -> 0 | B2: ='受験資格確認表（経験業務内容）'!E1 -> 0 | C2: ='受験資格確認表（経験業務内容）'!C3 -> 0 | D2: ='受験資格確認表（経験業務内容）'!C4 -> 0 | E2: ='受験資格確認表（経験業務内容）'!D5 -> 0 | F2: ='受験資格確認表（経験業務内容）'!D6 -> 0 | G2: ='受験資格確認表（経験業務内容）'!D7 -> 0 | H2: ='受験資格確認表（経験業務内容）'!C8 -> 0 | I2: ='受験資格確認表（経験業務内容）'!D9 -> 0 | J2: ='受験資格確認表（経験業務内容）'!C10 -> 0 | K2: ='受験資格確認表（経験業務内容）'!C11 -> 0 | L2: ='受験資格確認表（経験業務内容）'!C12 -> 0 | M2: ='受験資格確認表（経験業務内容）'!C13 -> 0 | N2: ='受験資格確認表（経験業務内容）'!C14 -> 0 | O2: ='受験資格確認表（経験業務内容）'!C15 -> 0 | P2: ='受験資格確認表（経験業務内容）'!D16 -> 0 | Q2: ='受験資格確認表（経験業務内容）'!D17 -> 0 | R2: ='受験資格確認表（経験業務内容）'!D18 -> 0 | S2: ='受験資格確認表（経験業務内容）'!D19 -> 0 | T2: ='受験資格確認表（経験業務内容）'!D20 -> 0 | U2: ='受験資格確認表（経験業務内容）'!C21 -> 0 | V2: ='受験資格確認表（経験業務内容）'!C22 -> 0 | W2: ='受験資格確認表（経験業務内容）'!D23 -> 0 | X2: ='受験資格確認表（経験業務内容）'!D24 -> 0 | Y2: ='受験資格確認表（経験業務内容）'!C25 -> 0 | Z2: ='受験資格確認表（経験業務内容）'!D26 -> 0 | AA2: ='受験資格確認表（経験業務内容）'!C27 -> 0 | AB2: ='受験資格確認表（経験業務内容）'!D27 -> 0 | AC2: =SUM(C2:Z2) -> 0 | AD2: =COUNTIF(※追加1_CDMに関する著作_論文!B4:B1000,"<>") +COUNTIF(※追加2_CDMに関する学会発表!B4:B1000,"<>") +COUNTIF(※追加3_CDMに関する研修!B4:B1000,"<>") -> 0 | AE2: =SUM(AC2:AD2) -> 0
